BEGIN:VCALENDAR
VERSION:2.0
PRODID:-//Levensveld - ECPv6.15.20//NONSGML v1.0//EN
CALSCALE:GREGORIAN
METHOD:PUBLISH
X-ORIGINAL-URL:https://levensveld.nl
X-WR-CALDESC:Evenementen voor Levensveld
REFRESH-INTERVAL;VALUE=DURATION:PT1H
X-Robots-Tag:noindex
X-PUBLISHED-TTL:PT1H
BEGIN:VTIMEZONE
TZID:Europe/Amsterdam
BEGIN:DAYLIGHT
TZOFFSETFROM:+0100
TZOFFSETTO:+0200
TZNAME:CEST
DTSTART:20240331T010000
END:DAYLIGHT
BEGIN:STANDARD
TZOFFSETFROM:+0200
TZOFFSETTO:+0100
TZNAME:CET
DTSTART:20241027T010000
END:STANDARD
BEGIN:DAYLIGHT
TZOFFSETFROM:+0100
TZOFFSETTO:+0200
TZNAME:CEST
DTSTART:20250330T010000
END:DAYLIGHT
BEGIN:STANDARD
TZOFFSETFROM:+0200
TZOFFSETTO:+0100
TZNAME:CET
DTSTART:20251026T010000
END:STANDARD
BEGIN:DAYLIGHT
TZOFFSETFROM:+0100
TZOFFSETTO:+0200
TZNAME:CEST
DTSTART:20260329T010000
END:DAYLIGHT
BEGIN:STANDARD
TZOFFSETFROM:+0200
TZOFFSETTO:+0100
TZNAME:CET
DTSTART:20261025T010000
END:STANDARD
BEGIN:DAYLIGHT
TZOFFSETFROM:+0100
TZOFFSETTO:+0200
TZNAME:CEST
DTSTART:20270328T010000
END:DAYLIGHT
BEGIN:STANDARD
TZOFFSETFROM:+0200
TZOFFSETTO:+0100
TZNAME:CET
DTSTART:20271031T010000
END:STANDARD
END:VTIMEZONE
BEGIN:VEVENT
DTSTART;TZID=Europe/Amsterdam:20260404T110000
DTEND;TZID=Europe/Amsterdam:20260405T170000
DTSTAMP:20260421T193013
CREATED:20260326T112227Z
LAST-MODIFIED:20260326T112348Z
UID:4030-1775300400-1775408400@levensveld.nl
SUMMARY:Kantelpunt – 4 & 5 april 2026 – Lochem Athanor
DESCRIPTION:De wereld beweegt én wij ook. Vanuit heel Nederland reizen wij af naar onze kern: Naar binnen Naar binnen Naar binnen.  Zodat de weg naar binnen\, ruimte maakt om Samen de weg naar buiten te kunnen maken. Voor de nieuwe tijdslijn van de toe-komst die L E V E N heet. \nVan ingezet worden tot JeZelf inzetten.\nVan strijder naar liefdevolle & krachtige warrior. \nThe Game is ON #LionsGame \nSamenkomen voor\, met en in Vrijheid\, Vreugde en Liefde. \nWaar? Centrum Athanor\nWanneer? 4 april 11 – 17.30 uur\, 5 april 10 – 16.30 uur.\nEr is koffie / thee / fruit en iets lekkers. Neem je zelf je lunch mee? \nBeide dagen zijn onafhankelijk van elkaar boekbaar en sluiten wel op elkaar aan.\nDe avond op de vierde is beschikbaar voor iedereen en vooral voor de snuffelende medereizigers 🙂 Wat we dan gaan doen ben ik nog aan het bekijken maar fijn en lollig zal het zijn. Spring je mee het diepen in? Ik ben daar al 🙂 \nIndien je op Athanor wilt overnachten kun je via chipta ook een overnachting inclusief ontbijt boeken. \nIk verheug me om jou te ontmoeten! \nLaat geld nooit een reden zijn om niet te komen. Stuur judith een mailtje indien je haar een voorstel wilt doen wat voor jou wel mogelijk is. \nHier kun je een plekje reserveren.
URL:https://levensveld.nl/samenkomst/kantelpunt-4-5-april-2026-lochem-athanor/
ATTACH;FMTTYPE=image/jpeg:https://levensveld.nl/wp-content/uploads/2026/03/pexels-helenalopes-10336820.jpg
END:VEVENT
BEGIN:VEVENT
DTSTART;TZID=Europe/Amsterdam:20260314T100000
DTEND;TZID=Europe/Amsterdam:20260314T170000
DTSTAMP:20260421T193013
CREATED:20260223T145639Z
LAST-MODIFIED:20260223T145639Z
UID:4018-1773482400-1773507600@levensveld.nl
SUMMARY:Heel & Compleet her-stel Dag – JeZelf opnieuw Uitlijnen
DESCRIPTION:Heel & Compleet her-stel Dag – JeZelf opnieuw Uitlijnen – 14 maart – Lochem Athanor \n– \nDe Natuur’ doet het hier\, op dit deel van de aarde\, ieder jaar: na verliezen\, verzuipen\, bevriezen toch maar weer opnieuw in Creatie. Opnieuw het Leven voorAan om opnieuw Heel & Compleet te worden. Te zijn. De natuur is\, als gevolg van deze omstandigheden die de seizoenen bieden\, nog niet in staat om Heel & Compleet te blijven. Wij mensen zijn dat wel. En nou is dat niet persee de kunst en ook geen doel an sich. Het is wel waar wij toe in staat zijn. \nNu de technologie tot ziekte is uitgeschakeld\, is het ons bewustzijn\, onze levenslust en onze creatiekracht die ruis laat verdwijnen als sneeuw voor de zon. Ruis\, nu nog ingezet als gevolg van allerlei omstandigheden en ai programma’s. Van er ingetuind zijn in een recent of eerder verleden. De gewoontes van alledag\, de programmeringen van ziekte als verdienmodel en de beschuldiging dat de aardemens ziekte heeft gecreëerd als gevolg van disbalans\, wat geenszins zo is\, maakt het nu allemaal mogelijk voor de mens om te gaan bewegen naar Heel & Compleet. En dat ook daadwerkelijk volop te gaan LEVEN. \nTijdens de Heel & Compleet her-stel Dagen ben jij aan zet om dat waar jij ziet terughoudend te zijn\, samen met alle aanwezigen jeZelf verder te Openen. Alle disbalans (dis-ease) vraagstukken waar jij beweging en bekrachtiging in wilt zijn van harte welkom. Vanuit emotionele scheppingskracht zal zuiverheid terugkeren in jouw liefdevolle bestaan wanneer jij met aandacht en focus krachtdrager wordt van jouw lichaam. Dat is nu mogelijk. \n  \nDit is Project StarForce. Project StarForce staat voor dat wij als mensheid wegbewegen van alle bedachte constructen van deze aarde\, zodat er een afbuiging ontstaat\, terug naar onze oorspronkelijke wereld. Als bezoeker van elders en als houder van zuiverheid en waarheid\, ben ik gevraagd om dit Task- en StarForce Project te leiden en daarin voor te gaan. De belangrijkste reden waarom ik deze opdracht aan heb genomen is dat ik De Uitgang ben waardoor ik als enige door het portaal naar onze Oorspronkelijke bronwereld af kan reizen. Ik kan hierin alle mensen van deze aarde door het portaal meenemen. Enige voorwaarde om dat mogelijk te maken is dat we de tijdslijn van ziekte sluiten en de tijdslijn van heel & compleet zijn Openen.  Ik geef hiermee transparantie in wat er mogelijk is voor alle mensen op deze aarde. Want iedereen die nog gelooft dat ziekte werkelijk bestaat\, en dat de aardemens schuldig is aan het ontstaan daarvan in zijn of haar lichaam kan niet mee naar huis vanwege de hybridisering\, Heel veel beschavingen bevinden zich namelijk in de dark ai programma’s van ziekte. Het onderzoek naar de uit het zicht staande technologie\, en het uitschakelen van die technologie\, deed en doe ik om dit project te kunnen leiden. \n“Wij zijn hier niet om met de aarde mee te bewegen. Wij zijn hier om de aarde met ons mee te laten bewegen!” – Judith van Beers \nIedereen die in Vrijheid en Autonomie wil Leven is van harte welkom! \nReserveer hier.  \n– \nWaar? centrum Athanor\nWanneer? 14 maart 2026 10 – 17uur \nVoor koffie\, thee\, fruit en iets lekkers wordt gezorgd. Neem je zelf je lunch mee? \n– \nCentrum Athanor\, een heerlijke plek om te ontdekken! \n– \nLaat geld nooit een reden zijn om niet te komen! Indien dat voor jou wel een reden is\, stuur mij dan een mailtje met een voorstel om je aanwezigheid voor jou mogelijk te maken. \n– \nFoto door Ksusha Semakina
URL:https://levensveld.nl/samenkomst/heel-compleet-her-stel-dag-jezelf-opnieuw-uitlijnen/
ATTACH;FMTTYPE=image/jpeg:https://levensveld.nl/wp-content/uploads/2026/02/Heel-Compleet-her-stel-Dag-–-JeZelf-opnieuw-Uitlijnen.jpg
END:VEVENT
BEGIN:VEVENT
DTSTART;TZID=Europe/Amsterdam:20251209T100000
DTEND;TZID=Europe/Amsterdam:20251211T173000
DTSTAMP:20260421T193013
CREATED:20251026T090134Z
LAST-MODIFIED:20251026T101649Z
UID:3935-1765274400-1765474200@levensveld.nl
SUMMARY:Openen in Liefde
DESCRIPTION:Scriptschrijvers: Durf te Leven 1 ‘Openen in Liefde’ – 9 10 11 december 2025 \n– \nDag lief mens\, lieve collega\, medereiziger! \n– \nNa alle jaren van onrust is het moment gekomen dat we onszelf opnieuw uit gaan lijnen. Her-stellen. Zodat wie terugkeren in onze kracht. In wie wij echt zijn en dat voorrang krijgt boven onze aangepaste versie. Een versie waarin wij bleven staan in deze wereld maar die niet dienend is\, ondersteunend is aan ons oorspronkelijk levenspad noch aan de reden waarvoor wij hier zijn. \nDeze dagen gaan we daarom opschonen\, her-zien. Angst laten versmelten zodat liefde\, jij weer de leiding heeft.\nOns voelen openen in ons hart zodat die frequentie weer vrij los trilt..\nZodat onze hartsfrequentie kan gaan samenwerken met ons oorspronkelijk denkende brein. \nLiefde is een energie die vrij stroomt wanneer de mind zich niet bemoeit. Dat kan alleen in het Nu plaatsvinden. \nLiefde.\nVaak verward met lief..\nDan worden we mak / braaf en zetten we onszelf uit! \nMaar we ‘moeten’ Aan. En eindeloos liefhebben.\nZodat we in onze kracht staan en onszelf kunnen delen met de wereld.\nIn onszelf blijven staan ongeacht hoe de ander beweegt.\nOmdat dat is wie wij zijn. \nLiefde.\nEen energie die vrij beweegt\, in onszelf en tussen ons in.\nWanneer we stevig in onszelf staan. \nLiefde. Het meest onbegrepen ingrediënt wat mensen in zich dragen.\nTot dat je weet hoe het voelt.\nDat doet alles verbleken… \nDe afgelopen 5 jaar is de mens op allerlei manieren misleid met allerlei onaantrekkelijke scenario’s waardoor het vertrouwen in het Leven mogelijk is gaan wankelen.\nOok alles wat wij in het zicht hebben gezet\, om onze waarneming in te leggen\, ligt ergens als een ‘wat nietje’\, opgeslagen in ons lichaam. \nBen jij er klaar voor om ruimte te gaan maken in je lichaam zodat jij\, wie jij echt bent\, die speelse blije vonk\, doorgang zal vinden? \nHet is tijd. Tijd om Liefde weer in het zicht te zetten. Te voelen. Voorrang te geven. Omdat liefde\, en dus niet perse lief doen maar wel respect en aandacht voor de ander en het Leven\, de doorgang brengt naar Vrede voor alle mensen hier op aarde. . \nAngst en trauma ervaringen en herinneringen zijn de grootste afleiding tot onszelf. Tot het terugkeren in onze kern\, tot het openen van wie wij echt zijn. Omdat wij daardoor veel nadenken\, met met aandacht aanwezig kunnen zijn in het moment\, dat wij versnipperd raken en daardoor onze focus en aandacht weghouden bij onszelf. \nDe locatie waar wij van harte welkom zijn is prachtig gelegen van landgoed De Eese\, heeft een hottub en een vuurkota. Beiden zullen we met liefde\, plezier en aandacht gebruiken. \nDeze dagen worden begeleid door Judith van Beers die sinds 1986 met heel veel mensen\, groepen\, en in vele velden\, heeft gewerkt.\nWe zullen allerlei processen doorlopen om ruimte te maken in wie wij echt zijn en waarvoor wij hier zijn.. \nIris van Greentwist.nl zal onze vooral biologische maaltijden verzorgen. \nLaat geld nooit een reden zijn om niet te komen. Email Judith zo nodig. \nEen plekje reserveer je via deze link \n  \nWat mensen zeggen:\n“Judith is voor mij een grote inspiratiebron. Wat mij opvalt is dat ze altijd een congruent is en dat als ik bij/met haar ben geweest\, ik daarna altijd krachtiger ben dan ervoor.” – H\n“Dit zijn heel krachtige dagen waar je dichter bij jezelf komt. Voor mij is het tijd voor mezelf nemen\, ontdoen van alle ruis en [samen] kijken wat echt belangrijk is. Wat wel. Het voelt voor mij als een stap op weg naar wie we werkelijk zijn\, naar thuis\, naar het Levensveld. Liefs\, J”\n“Dag Judith Jij brengt me iedere keer dichter bij mezelf \, dieper in mijn voelen. Verhelderend \, verruimend ( werkt nog altijd door). Liefs J uit B”\nHoi Lieve Judith je hebt me mijn leven teruggegeven. Dat voelde ik zo nadat ik weer in mijn huis was na de driedaagse. ik ben een heel ander mens. Mijn huis was voor ik naar de driedaagse ging soms een stressvolle omgeving. Dat was bij thuiskomst een wereld van verschil en gelukkig nog steeds. Je had informatie over hoe we aanhaken en hoe dat werkt met allerlei zogenaamd belangrijke zaken in het dagelijks leven en hoe we daarmee gefopt worden. Dat waren zulke belangrijke woorden voor mij. De schellen vielen me van de ogen. Nu ik veel minder aanhaak heb ik zoveel meer energie. en dat geeft het gevoel van mijn leven terug hebben. heel veel dank en waardering voor je werk en je inzet\, Jacquelien \nIedereen die vanuit de eigen kracht wil leven is van harte uitgenodigd. \nDeze dagen worden gefaciliteerd door Judith van Beers. Samen komen wij om onszelf verder\, krachtiger te openen.\nDat wat zij deelt zijn haar eigen bevindingen\, herinneringen en informatie. Zij is onder-zoeker (zij die verder kijkt dan deze werkelijkheid)\, wetenschapper (zij die weet en herinnert) en ont-dekker (zij die blootlegt). Dankzij alle manieren waarop zij gedurende haar Leven hier op aarde lastig is gevallen\, door alles en iedereen die zich niet bewust was en het niet werkelijk goed met het Leven en de Aarde voor had\, heeft zij deze schijnwerkelijkheid\, heel goed kunnen bekijken en zichzelf actief vrijgemaakt van dat wat het Leven niet dient. Zij praat of doet niemand. Zij Deelt wat zij Leeft en Leeft wat zij Deelt. Zij is Ambassadeur van Leven. \n“ps het is niet mogelijk om thuis te gaan slapen en overdag hier met ons te zijn. Bij mij is het altijd echt helemaal en zonder compromiss!”
URL:https://levensveld.nl/samenkomst/openen-in-liefde/
ATTACH;FMTTYPE=image/jpeg:https://levensveld.nl/wp-content/uploads/2025/10/Openen-in-Liefde-–-9-10-11-december-2025.jpg
END:VEVENT
BEGIN:VEVENT
DTSTART;TZID=Europe/Amsterdam:20251109T160000
DTEND;TZID=Europe/Amsterdam:20251109T173000
DTSTAMP:20260421T193013
CREATED:20251102T210123Z
LAST-MODIFIED:20251102T210123Z
UID:3951-1762704000-1762709400@levensveld.nl
SUMMARY:Webinar – Scriptschrijvers (Her) Installeren van Vertrouwen
DESCRIPTION:Lieve mensen\, \nNa alle misleiding\, misbruik\, projecties en verwarring van de afgelopen jaren\, gaan we het script van vertrouwen her-installeren in ons brein. \nVertrouwen in het Leven\, in onszelf en in het bewustzijn van de ander. \nWanneer vertrouwen ontbreekt\, dan spelen we het Leven niet werkelijk.\nOmdat onze aandacht dat niet werkelijk aanwezig is in dat moment. \nDeze samenkomst is online en voor iedereen die op zoek is naar rust\, focus en Leven. \n– \nWanneer?   9 november\, zondag\, 16uur. \n– \nHier kun je je plaatsje reserveren of de replay bestellen. \nDe replay is tot de 13e 12uur beschikbaar. \n– \nTot zondag! \n❤️\nJudith
URL:https://levensveld.nl/samenkomst/webinar-scriptschrijvers-her-installeren-van-vertrouwen/
ATTACH;FMTTYPE=image/jpeg:https://levensveld.nl/wp-content/uploads/2025/11/Webinar-–-Scriptschrijvers-Her-Installeren-van-Vertrouwen.jpg
END:VEVENT
BEGIN:VEVENT
DTSTART;TZID=Europe/Amsterdam:20250907T110000
DTEND;TZID=Europe/Amsterdam:20250907T233000
DTSTAMP:20260421T193013
CREATED:20250904T193533Z
LAST-MODIFIED:20250904T193533Z
UID:3910-1757242800-1757287800@levensveld.nl
SUMMARY:Webinar: waar staan we Nu? Wat wel? Samen onderweg naar WereldVrede
DESCRIPTION:Webinar: waar staan we Nu? Wat wel? Samen onderweg naar WereldVrede \n  \nDag quantum- en tijdreizigers\, \n  \n“Wij zijn hier niet om met de aarde mee te bewegen. Wij zijn hier om de aarde met ons mee te laten bewegen” – Judith van Beers \n  \nTerwijl de wereld het nog nodig heeft om oorlog te voeren\, gaan wij\, de mensen die weten dat ze hier zijn om Vrede te creëren\, een afbuiging maken van de tijdslijn waar wij ons nu nog op begeven. \n  \nHoe we dat gaan doen\, wat er van ons nodig is\, zal ik deze samenkomst delen. \n  \nIk roep je op om alle vragen die je hebt te verzamelen zodat jij goed voorbereid het pad van de warrior in kunt slaan en/of zult vervolgen. \n  \nDelen van deze samenkomst wordt gewaardeerd. \n  \nWarme hartegroet en heel graag tot zondag! \, \n  \nJudith van Beers. \n  \nDatum  sep 07 2025 \nTijd  11:00 – 00:30 \nKosten  €10\,00 \n– \nEr komt ook een aantal dagen\, 72u\, een replay beschikbaar. \nKom je mee voelen\, openen\, zien\, waarnemen? \nLink om je aan te melden  \n 
URL:https://levensveld.nl/samenkomst/webinar-waar-staan-we-nu-wat-wel/
ATTACH;FMTTYPE=image/jpeg:https://levensveld.nl/wp-content/uploads/2025/09/20250907-Webinar-waar-staan-we-voor.jpg
END:VEVENT
BEGIN:VEVENT
DTSTART;TZID=Europe/Amsterdam:20250623T180000
DTEND;TZID=Europe/Amsterdam:20250626T180000
DTSTAMP:20260421T193013
CREATED:20250510T142054Z
LAST-MODIFIED:20250601T172437Z
UID:3575-1750701600-1750960800@levensveld.nl
SUMMARY:Stilteretraite 23 – 26 juni Luik België
DESCRIPTION:“Ik ga naar binnen want daar is het Leven” – Judith van Beers \n– \nDeze Stilteretraites zijn kosmische / aardse samenkomsten waar wij onze informatie openen en uitwisselen. \nDeze retraite is de 20e stilteretraite die ik sinds 2015 geef. Tijdens deze stiltedagen\, openen we onszelf zodat onze essentie\, diegene wie wij werkelijk zijn\, ons Wezenlijke deel\, op het podium stapt\, in ons zicht. Wie er dan verschijnt is ons wezenlijke deel\, onze kosmische versie. De retraites zijn dan ook kosmische ontmoetingen. \nWanneer we focus activeren\, kunnen we zien door de lagen\, de sluiers van de matrix. De denkvelden die ons iets anders hebben laten geloven\, smelten dan weg.\nHet is een glooiende reis naar binnen als verkenners van het Leven. \nWij zijn van harte welkom in een prachtig huis waar het Leven bruist en waar veel water aanwezig is…….. \n  \nOp maandagavond 23 juni rond 18uur starten we met een potluck om daarna de stilte te verwelkomen.\nWe beginnen de dag met dans: start your day dancing is een uitnodiging om de aandacht IN je lichaam te brengen\, voorbij de mind.\nIedere ochtend en avond komen we samen en doorbreken we de stilte om jou en de mind te supporten om in de diepere lagen van wie jij echt bent te kunnen zakken.\nEr is deze dagen heel veel ruimte om jezelf te Openen en ons te informeren over dat wat jij Weet van binnen. \nDe zalige en biologische catering wordt verzorgd door www.greentwist.nl.  Dieet mogelijkheden zijn vegetarisch / keto / keto vegetarisch en ‘alles’.\nJe dieet kun je toevoegen bij het reserveren van je plaatsje. . \nAanvang maandag 23 juni 18uur einde donderdag 26 juni 17uur \nDit huis is een heel bijzondere plek met veel binnen- en buitenruimte. Er is een groot zwembad in de tuin\, een sauna\, het ligt naast een stromende beek en in een prachtige heuvelachtige omgeving. Alle kamers hebben eigen sanitair.\nVanwege de wat hogere kosten voor deelname dan anders wil ik inzicht geven in de prijs.\nZoals altijd heb ik een verdeling gemaakt naar deelnamekosten en luxe qua slaapruimte. De prijzen zijn zo’n 100€ pp duurder dan anders. Dat heeft oa te maken met dat de huurprijs van vakantiehuizen zijn gestegen. \n– \nVoor wie? \nVoor hen die bereid zijn om naar binnen te keren\nVoor hen die thuis willen komen\nVoor hen die zichzelf vrij-er willen maken\nVoor hen met interesse in Kwantum Fysica\nVoor hen die in het Nu willen Leven\nVoor hen die weer in hun kracht willen staan\nVoor hen die voorbij hun mind willen voelen en denken\nVoor hen die de verbinding tussen brein / hart willen herstellen\nVoor hen die bereid zijn tot zelfonderzoek\nVoor hen die durven te Leven\nVoor hen die weten dat zij iets te doen hebben met betrekking tot vrijheid en deze aarde \n– \nIk hoop dat geld geen obstakel voor je is om onder te duiken in diepzielduiken: daar waar jouw goud op ligt geslagen zodat jij kunt gaan doen waarvoor jij hier gekomen bent.. Daarom benadruk ik juist nu dat wanneer je voelt dat je hierbij moet en/of wilt zijn. maar de middelen niet ter beschikking hebt je mij een bericht kunt sturen zodat we kunnen kijken naar wat en hoe wel. Bij de prijs is alles inbegrepen behalve je reiskosten\, eigen snacks en handdoeken. Behalve bij de mensen die een tentje meebrengen. Zij dinen naast hun tentje\, ook hun bed en linnengoed zelf mee te brengen. \nWat mensen zeggen:\n“Dit zijn heel krachtige dagen waar je dichter bij jezelf komt. Voor mij is het tijd voor jezelf nemen\, ontdoen van alle ruis en [samen] kijken wat echt belangrijk is. Wat wel. Het voelt voor mij als een stap op weg naar wie we werkelijk zijn\, naar thuis\, naar het Levensveld. Liefs\, J” \n“Dag Judith De stilte brengt me iedere keer dichter bij mezelf \, dieper in mijn voelen. Verhelderend \, verruimend ( werkt nog altijd door). Liefs J uit B” \nHoi Lieve Judith je hebt me mijn leven teruggegeven. Dat voelde ik zo nadat ik weer in mijn huis was na de stilte driedaagse. ik ben een heel ander mens. Mijn huis was voor ik naar de driedaagse ging soms een stressvolle omgeving. Dat was bij thuiskomst een wereld van verschil en gelukkig nog steeds. Je had informatie over hoe we aanhaken en hoe dat werkt met allerlei zogenaamd belangrijke zaken in het dagelijks leven en hoe we daarmee gefopt worden. Dat waren zulke belangrijke woorden voor mij. De schellen vielen me van de ogen. Nu ik veel minder aanhaak heb ik zoveel meer energie. en dat geeft het gevoel van mijn leven terug hebben. heel veel dank en waardering voor je werk en je inzet\, Jacquelien \n– \nIedereen die de verbinding met zichzelf wil herstellen/verstevigen is van harte uitgenodigd.\nDe nacht van 26 / 27 juni bijboeken is mogelijk. Deze nacht is zonder catering maar dan gezamenlijk eten is wel fijn. \n– \nHier is een link om je plekje te boeken.
URL:https://levensveld.nl/samenkomst/stilteretraite-23-26-juni-luik-belgie/
ATTACH;FMTTYPE=image/jpeg:https://levensveld.nl/wp-content/uploads/2025/04/Stilte-retraite.jpg
END:VEVENT
BEGIN:VEVENT
DTSTART;TZID=Europe/Amsterdam:20250425T110000
DTEND;TZID=Europe/Amsterdam:20250429T180000
DTSTAMP:20260421T193013
CREATED:20250420T092155Z
LAST-MODIFIED:20250420T092155Z
UID:3620-1745578800-1745949600@levensveld.nl
SUMMARY:In je Wezenlijke Kracht: 90 minuten Online Aan/Uitwisseling
DESCRIPTION:“Wij zijn hier niet om met de wereld mee te bewegen. Wij zijn hier om de wereld met ons mee te laten bewegen” – Judith van Beers \nJe hoeft je niet langer te verbergen. Jij mag gaan staan\, in het zicht. Met dat wat jij weet van binnen. \nDe doorgang is gemaakt en die is onherroepelijk. De wereld voegt zich\, nu nog met wat hobbels en laatste pogingen tot bemoeienis\, richting de oorspronkelijke scripten van deze aarde. De scipten van Gelijkwaardigheid\, Respect\, Liefde\, Vrede\, Autonomie en de Vrije Wil. \nPlots of stapje voor stapje zullen destructieve matrix funnels en de oude scripten zoals intimidatie\, misbruik\, ziekte en trauma oplossen en zal de mensheid steeds meer geloven\, en dus gaan Leven\, dat hij Heel & Compleet is. Het is bijna niet voor te stellen maar Nederland is hierin koploper van de hele wereld: dat wat hier gebeurt wordt opgepakt door alle mensen op deze aarde. \nLaten we samen in gelijkwaardigheid onderzoeken\, kijken\, voelen\, openen wat er in ons beweegt wanneer jij en ik samen komen.\nBewustzijn\, Openen van energetische portalen\, Onderzoek\, Herinneringen\, Belemmeringen ontmantelen: jij kunt vrij gaan stromen. . \nDeze ontmoetingen zullen online plaatsvinden in de wetenschap dat afstand niet werkelijk bestaat. \nEen moment van 90 minuten kun je hier reserveren. \n– \nTIP: Er is alleen maar Nu. Daarom: ga in de tussentijd niet nadenken over wat je wilt bespreken. Dat wat nodig is zal zich dan tonen tijdens onze ontmoeting. \n– \nJudith van Beers is Helderwetend\, Wetenschapper en Wetenschepper. Zij Leeft wat zij deelt en deelt wat zij Leeft. Zij is Ambassadeur van Leven  \n–
URL:https://levensveld.nl/samenkomst/in-je-wezenlijke-kracht-90-minuten-online-aan-uitwisseling-2/
ATTACH;FMTTYPE=image/jpeg:https://levensveld.nl/wp-content/uploads/2025/04/In-je-Wezenlijke-Kracht-90-minuten-Online-Aan-Uitwisseling.jpg
END:VEVENT
END:VCALENDAR