BEGIN:VCALENDAR
VERSION:2.0
PRODID:-//Levensveld - ECPv6.15.20//NONSGML v1.0//EN
CALSCALE:GREGORIAN
METHOD:PUBLISH
X-WR-CALNAME:Levensveld
X-ORIGINAL-URL:https://levensveld.nl
X-WR-CALDESC:Evenementen voor Levensveld
REFRESH-INTERVAL;VALUE=DURATION:PT1H
X-Robots-Tag:noindex
X-PUBLISHED-TTL:PT1H
BEGIN:VTIMEZONE
TZID:Europe/Amsterdam
BEGIN:DAYLIGHT
TZOFFSETFROM:+0100
TZOFFSETTO:+0200
TZNAME:CEST
DTSTART:20230326T010000
END:DAYLIGHT
BEGIN:STANDARD
TZOFFSETFROM:+0200
TZOFFSETTO:+0100
TZNAME:CET
DTSTART:20231029T010000
END:STANDARD
BEGIN:DAYLIGHT
TZOFFSETFROM:+0100
TZOFFSETTO:+0200
TZNAME:CEST
DTSTART:20240331T010000
END:DAYLIGHT
BEGIN:STANDARD
TZOFFSETFROM:+0200
TZOFFSETTO:+0100
TZNAME:CET
DTSTART:20241027T010000
END:STANDARD
BEGIN:DAYLIGHT
TZOFFSETFROM:+0100
TZOFFSETTO:+0200
TZNAME:CEST
DTSTART:20250330T010000
END:DAYLIGHT
BEGIN:STANDARD
TZOFFSETFROM:+0200
TZOFFSETTO:+0100
TZNAME:CET
DTSTART:20251026T010000
END:STANDARD
BEGIN:DAYLIGHT
TZOFFSETFROM:+0100
TZOFFSETTO:+0200
TZNAME:CEST
DTSTART:20260329T010000
END:DAYLIGHT
BEGIN:STANDARD
TZOFFSETFROM:+0200
TZOFFSETTO:+0100
TZNAME:CET
DTSTART:20261025T010000
END:STANDARD
END:VTIMEZONE
BEGIN:VEVENT
DTSTART;VALUE=DATE:20241231
DTEND;VALUE=DATE:20250121
DTSTAMP:20260419T200807
CREATED:20241205T100520Z
LAST-MODIFIED:20241205T182932Z
UID:3306-1735603200-1737417599@levensveld.nl
SUMMARY:Start 2025 Dancing for 21 Days! Starting dec 31st!
DESCRIPTION:YEAHHH Let’s do this! \nImagine\, 21 Days\, dancing two songs a day to express yourself. To experience the NOW\, To have your energy started. To move that cosmic body of yours! \nWake up! Get up! And Dance!\n(or dance at any moment you prefer) \nDance while you are in the shower\, dance while making breakfast\, dnace while biking or dance while driving! \nJust D A N C E \nAll music is empowering with frewuencies of the fields of origin. To support you to remember who you really are. \nTwo songs: a slow starter and a quick starter. Arriving in your mailbox at 6am Central Europe Time (Amsterdam). \nJust see and experience what it does to your energy to start your day with empowering music\, expressing yourself\, feeling the emotions\, feeling your avatar\, knowing that many others are dancing to the same music! \nAnd there is\, and never will be a ‘have to’ while dancing because Life flows to the max when flowing freely! \nParticipation is free! \nYou can register here \nhttps://laposta.nl/f/sskskxyb18nw \nYou will receive daily emails @ 6am CET\, the first of 21 on Dec 31st! \nI am soooo much looking forward myself!! \nCome on\, lets dance!! \n– \nOpgeven: https://laposta.nl/f/sskskxyb18nw
URL:https://levensveld.nl/samenkomst/start-2025-dancing-for-21-days-starting-dec-31st/
ATTACH;FMTTYPE=image/jpeg:https://levensveld.nl/wp-content/uploads/2024/12/Dancing-2025.jpg
END:VEVENT
END:VCALENDAR