BEGIN:VCALENDAR
VERSION:2.0
PRODID:-//Levensveld - ECPv6.15.20//NONSGML v1.0//EN
CALSCALE:GREGORIAN
METHOD:PUBLISH
X-ORIGINAL-URL:https://levensveld.nl
X-WR-CALDESC:Evenementen voor Levensveld
REFRESH-INTERVAL;VALUE=DURATION:PT1H
X-Robots-Tag:noindex
X-PUBLISHED-TTL:PT1H
BEGIN:VTIMEZONE
TZID:Europe/Amsterdam
BEGIN:DAYLIGHT
TZOFFSETFROM:+0100
TZOFFSETTO:+0200
TZNAME:CEST
DTSTART:20250330T010000
END:DAYLIGHT
BEGIN:STANDARD
TZOFFSETFROM:+0200
TZOFFSETTO:+0100
TZNAME:CET
DTSTART:20251026T010000
END:STANDARD
BEGIN:DAYLIGHT
TZOFFSETFROM:+0100
TZOFFSETTO:+0200
TZNAME:CEST
DTSTART:20260329T010000
END:DAYLIGHT
BEGIN:STANDARD
TZOFFSETFROM:+0200
TZOFFSETTO:+0100
TZNAME:CET
DTSTART:20261025T010000
END:STANDARD
BEGIN:DAYLIGHT
TZOFFSETFROM:+0100
TZOFFSETTO:+0200
TZNAME:CEST
DTSTART:20270328T010000
END:DAYLIGHT
BEGIN:STANDARD
TZOFFSETFROM:+0200
TZOFFSETTO:+0100
TZNAME:CET
DTSTART:20271031T010000
END:STANDARD
END:VTIMEZONE
BEGIN:VEVENT
DTSTART;TZID=Europe/Amsterdam:20260213T100000
DTEND;TZID=Europe/Amsterdam:20260227T170000
DTSTAMP:20260419T190556
CREATED:20260124T111612Z
LAST-MODIFIED:20260215T193432Z
UID:3990-1770976800-1772211600@levensveld.nl
SUMMARY:2-daagse: In de kern van jouw Hart – Lochem 13 & 27 februari
DESCRIPTION:Lieve mensen\,\nIk heb 5 kaartjes beschikbaar gemaakt voor 27 februari.\nDe opname van de eerste dag deel ik binnenkort.\nIk ontmoet je graag.\nWarme groet\,\nJudith \n– \nJarenlang werd ik zelf van ‘het hart’ weggehouden. Het lag in mijn beoordeling\, te dicht bij het aards spirituele veld. Ik had niet door hoe ik er van weggehouden werd. Wat mij de afgelopen periode is gebleken\, is de kracht van het hart. Ik ben heel erg blij dat ik dat nu met jou kan beleven. \nHet hart\, is een soort portaal naar ons oorspronkelijk potentieel.\nNaar onze herinneringen.\nHet hart is onze ingang tot wie wij echt zijn en is daarom de ingang tot de aarde met ons mee te laten bewegen (ipv andersom).\n.\nDie frequentie van liefde\, laat energie vrij bewegen waardoor zichtbaar kan worden wat de bedoeling is.\nHet hart licht ons pad op\, het oorspronkelijke pad wat voor ons klaar lag toen wij hier op aarde arriveerden. \nDe verbinding met het hart is de basis om jezelf verder te Openen.\nIn dat wat jij meebracht van thuis.\nOm te ontdekken en te herinneren wie jij echt bent\nIs jouw hart de vrije toegangspoort. \nTijdens deze tweedaagse gaan we bewegen voorbij het bekende.\nIn de vertrouwde frequentie die jou Opent. \nIedereen is van harte welkom.\nMensen uitnodigen die jou lief zijn\, wordt gewaardeerd\nZodat onze hartenkracht zich versterkt. \nVoor deze tweedaagse zijn punten van mijn Aandacht-\n– the only way out is in\n– het Hart als portaal\n– functies van het hart\n– bekrachtigingen\n– concept of het Leven: kijk jij toe of speel jij?\n– wie ben jij werkelijk? wezenlijk potentieel\, wat is dat?\n– wat zijn herinneringen?\n– trauma en de kracht van waarnemen\n– openen van het Voelend potentieel\n– the only way out is Into the Heart\n– Liefde\, Respect en Vrijheid (oa ‘nieuwe ogen’)\n– thuiskomen in de Vrede van jouw kern \nWaar? Centrum Athanor\nDatum? twee dagen die ook los bij te wonen zijn maar alleen samen aangeboden worden. Vrijdag 13 en 27 februari 10 – 17.00u \nEen plekje reserveren kan hier. \nLaat geld nooit een reden zijn om niet te komen. Indien dat in jouw Leven actueel is\, stuur mij dan vooral een berichtje met dat wat er wel mogelijk is in jouw Leven. \nJudith van Beers is een reiziger van elders en heeft haar oorspronkelijke informatie\, in tact gehouden.\nSinds 2019 deed zij onderzoek naar de uit het zicht staande sturende technologie die deze gehackte werkelijkheid in stand hield. Dankzij herprogrammering van die technologie en het leggen van een verbinding tussen deze werkelijkheid en de oorspronkelijke wereld kwam de aardemens recent in Vrijheid. Nu de Uitgang van deze realiteit en de deur naar de oorspronkelijke wereld wijd Open staan\, is het aan de mens van deze aarde om vanuit de eigen oorsponkelijke herinneringen\, te gaan Leven. Zodat we de bronwereld\, ons Paradijs\, in deze werkelijkheid terug laten keren. Dat is nu mogelijk…! \n  \nIk kijk er naar uit om Samen met jou deze reis naar ons paradijs voort te zetten. ✨💛 Judith \n– \n– \nEen plekje reserveren kan hier. \n 
URL:https://levensveld.nl/samenkomst/2-daagse-in-de-kern-van-jouw-hart/
ATTACH;FMTTYPE=image/jpeg:https://levensveld.nl/wp-content/uploads/2026/01/2-daagse-In-de-kern-van-jouw-Hart-–-Lochem-13-27-februari.jpg
END:VEVENT
END:VCALENDAR