BEGIN:VCALENDAR
VERSION:2.0
PRODID:-//Levensveld - ECPv6.15.20//NONSGML v1.0//EN
CALSCALE:GREGORIAN
METHOD:PUBLISH
X-WR-CALNAME:Levensveld
X-ORIGINAL-URL:https://levensveld.nl
X-WR-CALDESC:Evenementen voor Levensveld
REFRESH-INTERVAL;VALUE=DURATION:PT1H
X-Robots-Tag:noindex
X-PUBLISHED-TTL:PT1H
BEGIN:VTIMEZONE
TZID:Europe/Amsterdam
BEGIN:DAYLIGHT
TZOFFSETFROM:+0100
TZOFFSETTO:+0200
TZNAME:CEST
DTSTART:20240331T010000
END:DAYLIGHT
BEGIN:STANDARD
TZOFFSETFROM:+0200
TZOFFSETTO:+0100
TZNAME:CET
DTSTART:20241027T010000
END:STANDARD
BEGIN:DAYLIGHT
TZOFFSETFROM:+0100
TZOFFSETTO:+0200
TZNAME:CEST
DTSTART:20250330T010000
END:DAYLIGHT
BEGIN:STANDARD
TZOFFSETFROM:+0200
TZOFFSETTO:+0100
TZNAME:CET
DTSTART:20251026T010000
END:STANDARD
BEGIN:DAYLIGHT
TZOFFSETFROM:+0100
TZOFFSETTO:+0200
TZNAME:CEST
DTSTART:20260329T010000
END:DAYLIGHT
BEGIN:STANDARD
TZOFFSETFROM:+0200
TZOFFSETTO:+0100
TZNAME:CET
DTSTART:20261025T010000
END:STANDARD
END:VTIMEZONE
BEGIN:VTIMEZONE
TZID:Europe/Helsinki
BEGIN:DAYLIGHT
TZOFFSETFROM:+0200
TZOFFSETTO:+0300
TZNAME:EEST
DTSTART:20230326T010000
END:DAYLIGHT
BEGIN:STANDARD
TZOFFSETFROM:+0300
TZOFFSETTO:+0200
TZNAME:EET
DTSTART:20231029T010000
END:STANDARD
BEGIN:DAYLIGHT
TZOFFSETFROM:+0200
TZOFFSETTO:+0300
TZNAME:EEST
DTSTART:20240331T010000
END:DAYLIGHT
BEGIN:STANDARD
TZOFFSETFROM:+0300
TZOFFSETTO:+0200
TZNAME:EET
DTSTART:20241027T010000
END:STANDARD
BEGIN:DAYLIGHT
TZOFFSETFROM:+0200
TZOFFSETTO:+0300
TZNAME:EEST
DTSTART:20250330T010000
END:DAYLIGHT
BEGIN:STANDARD
TZOFFSETFROM:+0300
TZOFFSETTO:+0200
TZNAME:EET
DTSTART:20251026T010000
END:STANDARD
END:VTIMEZONE
BEGIN:VEVENT
DTSTART;TZID=Europe/Amsterdam:20250425T110000
DTEND;TZID=Europe/Amsterdam:20250429T180000
DTSTAMP:20260425T144808
CREATED:20250420T092155Z
LAST-MODIFIED:20250420T092155Z
UID:3620-1745578800-1745949600@levensveld.nl
SUMMARY:In je Wezenlijke Kracht: 90 minuten Online Aan/Uitwisseling
DESCRIPTION:“Wij zijn hier niet om met de wereld mee te bewegen. Wij zijn hier om de wereld met ons mee te laten bewegen” – Judith van Beers \nJe hoeft je niet langer te verbergen. Jij mag gaan staan\, in het zicht. Met dat wat jij weet van binnen. \nDe doorgang is gemaakt en die is onherroepelijk. De wereld voegt zich\, nu nog met wat hobbels en laatste pogingen tot bemoeienis\, richting de oorspronkelijke scripten van deze aarde. De scipten van Gelijkwaardigheid\, Respect\, Liefde\, Vrede\, Autonomie en de Vrije Wil. \nPlots of stapje voor stapje zullen destructieve matrix funnels en de oude scripten zoals intimidatie\, misbruik\, ziekte en trauma oplossen en zal de mensheid steeds meer geloven\, en dus gaan Leven\, dat hij Heel & Compleet is. Het is bijna niet voor te stellen maar Nederland is hierin koploper van de hele wereld: dat wat hier gebeurt wordt opgepakt door alle mensen op deze aarde. \nLaten we samen in gelijkwaardigheid onderzoeken\, kijken\, voelen\, openen wat er in ons beweegt wanneer jij en ik samen komen.\nBewustzijn\, Openen van energetische portalen\, Onderzoek\, Herinneringen\, Belemmeringen ontmantelen: jij kunt vrij gaan stromen. . \nDeze ontmoetingen zullen online plaatsvinden in de wetenschap dat afstand niet werkelijk bestaat. \nEen moment van 90 minuten kun je hier reserveren. \n– \nTIP: Er is alleen maar Nu. Daarom: ga in de tussentijd niet nadenken over wat je wilt bespreken. Dat wat nodig is zal zich dan tonen tijdens onze ontmoeting. \n– \nJudith van Beers is Helderwetend\, Wetenschapper en Wetenschepper. Zij Leeft wat zij deelt en deelt wat zij Leeft. Zij is Ambassadeur van Leven  \n–
URL:https://levensveld.nl/samenkomst/in-je-wezenlijke-kracht-90-minuten-online-aan-uitwisseling-2/
ATTACH;FMTTYPE=image/jpeg:https://levensveld.nl/wp-content/uploads/2025/04/In-je-Wezenlijke-Kracht-90-minuten-Online-Aan-Uitwisseling.jpg
END:VEVENT
BEGIN:VEVENT
DTSTART;TZID=Europe/Amsterdam:20250209T160000
DTEND;TZID=Europe/Amsterdam:20250209T170000
DTSTAMP:20260425T144808
CREATED:20250204T215238Z
LAST-MODIFIED:20250204T215238Z
UID:3465-1739116800-1739120400@levensveld.nl
SUMMARY:Webinar Autonome Gezondheid – Krachtbron 1: Het menselijk lichaam 2.0
DESCRIPTION:Nu het bewustzijn van de mens terug is gekeerd\, beschikbaar is gemaakt en de verschillende krachtdragers zich bekend maken\, wordt het mogelijk om het reflecterende vermogen en het diep voelend energetisch vermogen bij de mens te Openen. \nDe zogenoemde deksels kunnen\, Moeten worden ontgrendeld waar onder zich het Goud bevindt van wie wij echt zijn. \nHet gaat om voelen. Het gaat om bewustzijn. Het gaat om het oorspronkelijk vermogen van de mens. \nDe onderwerpen die aan bod zullen komen zijn\n– Basis menselijk lichaam\n– Cycli\n– Wat kan mjin lichaam allemaal?\n– Gescripte werkelijkheid \nMogelijk ook al en anders doen we dat een volgende keer \n– Ontstaan van ziekte\n– Pijnklachten\n– Ouder worden leeftijd\n– Gewicht \nDit webinar is onderdeel van de webinar serie Autonome Gezondheid en zal éénmalig gegeven worden en daarna in ruil voor een vergoeding bekeken kunnen worden. \nZondag 9 februari 16.00 – 17.00uur.\nEen paar minuten voor de uitzending ontvang je een link via het emailadres waarmee je je aan hebt gemeld. \nEr zijn voor dit webinar\, deze online samenkomst 48 bijdragers kaarten beschikbaar. We gaan een geweldige reis maken\, vol informatie die jij van binnen ook Weet. Ik ben inmiddels zo ver dat ik me uit kan spreken. Hier kun je je plekje reserveren. \nDit webinar is onderdeel van een serie webinars die gericht zijn op het Openen van Autonome Gezondheid. Deze webinars komen kort na opname beschikbaar en zullen dankzij een vergoeding beschikbaar blijven voor iedereen. Waarom een vergoeding? Omdat ik dit in zorgvuldigheid moet openen en wanneer ik het openlijk op yt deel\, er allerlei velden zich gaan bemoeien wat niet gaat helpen bij het werk wat wij in onszelf te doen hebben.\nAls je nu een kaartje bestelt voor de replay dan ben jij de eerste die deze opname kan bekijken. Dit zal dezelfde dag\, van de opname zijn. \nDeze uitwisseling is beschikbaar voor iedereen met interesse in het onderwerp. Wat ik van iedereen vraag is om nieuwe ogen op te zetten zodat alle vooringenomenheid naar achteren schuift\, uit jouw zicht. \n– \nJe plekje reserveren voor de webinar of de replay:  https://www.chipta.com/nl/tickets/event/74817/autonome-gezondheidszorg-krachtbron-1/event-info/ \nFoto door Pixabay: https://www.pexels.com/nl-nl/foto/white-lightning-heating-mountain-53459/
URL:https://levensveld.nl/samenkomst/webinar-autonome-gezondheid-krachtbron-1-het-menselijk-lichaam-2-0/
ATTACH;FMTTYPE=image/jpeg:https://levensveld.nl/wp-content/uploads/2025/02/logo-superman.jpg
END:VEVENT
BEGIN:VEVENT
DTSTART;TZID=Europe/Helsinki:20241008T193000
DTEND;TZID=Europe/Helsinki:20241008T220000
DTSTAMP:20260425T144808
CREATED:20240916T101458Z
LAST-MODIFIED:20240916T101458Z
UID:3018-1728415800-1728424800@levensveld.nl
SUMMARY:Interactieve lezing - De Uitgang
DESCRIPTION:JUDITH VAN BEERS | DE UITGANG\nCIRKELACADEMIE\ndatum en tijd:\ndi 08 okt. 2024 – 19:30\nRabo Theater De Meenthe – Steenwijk \nAl haar hele Leven zocht Judith van Beers naar De Uitgang omdat zij wist dat die ergens moest zijn. Daarom trok zij zich vanaf 2017 in eenzaamheid terug om zelf het Leven opnieuw uit te kunnen gaan vinden. Zij bewoog weg van alle bedachte constructen\, gumde alles uit wat haar ooit wijsgemaakt was en liet zich vanuit voelen (van energie)\, bewegen. Om waarheid te kunnen herkennen\, ontdeed ze zich van alle ruis en ontdekte hoe de mens zichzelf in het gevang houdt\, terwijl de deur allang openstaat. De ontdekkingen die zij deed\, zijn zo anders en onverwacht\, dat had de mind nooit kunnen bedenken. Judith neemt u mee\, op een stukje van die reis. Zodat u wellicht geïnspireerd raakt om in vrijheid en autonomie\, zelf richting de uitgang te gaan bewegen. Judith kijkt verder dan deze werkelijkheid en buitenaards contact is haar dagelijkse realiteit. Haar informatie uit andere tijdslijnen\, staat in haar zicht. De matrix sluier\, is verwijderd. \nOp verzoek van Judith: Graag smartphones thuis of in de auto laten zodat u de avond krachtiger maakt voor uzelf en alle aanwezigen. \nEen kaartje bestel je hier.\nKosten: €12\,50
URL:https://levensveld.nl/samenkomst/interactieve-lezing-de-uitgang/
END:VEVENT
BEGIN:VEVENT
DTSTART;TZID=Europe/Helsinki:20240824T110000
DTEND;TZID=Europe/Helsinki:20240824T170000
DTSTAMP:20260425T144808
CREATED:20240815T130012Z
LAST-MODIFIED:20240815T130012Z
UID:2933-1724497200-1724518800@levensveld.nl
SUMMARY:Free your Mind: de Clown aan de leiding
DESCRIPTION:Nou dat wordt een dolle boel 😉 \nDenken is energetisch de meest ontkrachtende bezigheid die mij bekend is. Het haalt ons weg uit het nu en weg uit ons voelen. Het oordeelt over onszelf en anderen en zet ons vast. \nPerceptie.\nPerceptie zijn alle mogelijke zienswijzen over één en hetzelfde onderwerp. Iedereen ziet iets anders. En dat is het gevolg van andere paden tot ditzelfde nu moment. Waardoor het brein andere dingen herkend. \nDe clown wil eigenlijk maar ‘één ding en dat is contact = con tact = met voelen.\nDat is gelijk aan wat de mens wil al is deze zich daar mogelijk minder bewust van. \nDe clown kent geen beperkingen en gedraagt zich schaamteloos om dat contact werkelijk en helemaal te voelen. \nDat gaan we openen vandaag. Zodat de mind ondersteunt ipv beperkt.\nSpelen. Improviseren. Perceptieverandering. Samen. Plezier. Nu. \nJudith van Beers was in een vorig Leven clown en clownstrainer. Samen met Roelof van Wijngaarden (Gentleclowning) gaf zij jarenlang train de trainers en train de uitvaartclown. \n24 augustus 2024\nArnhem\n10.30u – 16.30u \nKaartje reserveer je hier
URL:https://levensveld.nl/samenkomst/free-your-mind-de-clown-aan-de-leiding/
ATTACH;FMTTYPE=image/jpeg:https://levensveld.nl/wp-content/uploads/2024/08/istockphoto-500335280-612x612-1.jpg
END:VEVENT
END:VCALENDAR